BEGIN:VCALENDAR
VERSION:2.0
PRODID:spatie/icalendar-generator
DESCRIPTION:Events from Georgia Amateur Radio Emergency Service\, LLC
X-WR-CALDESC:Events from Georgia Amateur Radio Emergency Service\, LLC
REFRESH-INTERVAL;VALUE=DURATION:PT1440M
X-PUBLISHED-TTL:PT1440M
BEGIN:VTIMEZONE
TZID:America/New_York
BEGIN:STANDARD
DTSTART:20251102T020000Z
TZOFFSETFROM:-0400
TZOFFSETTO:-0500
END:STANDARD
BEGIN:DAYLIGHT
DTSTART:20260308T020000Z
TZOFFSETFROM:-0500
TZOFFSETTO:-0400
END:DAYLIGHT
END:VTIMEZONE
BEGIN:VTIMEZONE
TZID:UTC
BEGIN:STANDARD
DTSTART:20250728T153023Z
TZOFFSETFROM:+0000
TZOFFSETTO:+0000
END:STANDARD
END:VTIMEZONE
BEGIN:VEVENT
UID:1783-72
DTSTAMP:20260424T153023Z
SUMMARY:JRC-Pickens ARES Winlink Net
LOCATION:Pickens County Georgia
ORGANIZER;CN=Jeff Gragg:MAILTO:murdock.usmvmc@gmail.com
RRULE:FREQ=WEEKLY;UNTIL=20300811T000000Z
DTSTART;TZID=America/New_York:20260412T190000
DTEND;TZID=America/New_York:20260412T200000
X-ALT-DESC;FMTTYPE=TEXT/HTML:This is a weekly training Net that is open to 
 all licensed amateurs. Send a standard Winlink message to W4JNR every Sund
 ay before 8:00 pm.
CATEGORIES:Net
URL;VALUE=URI:https://gaares.org/mc-events/jrc-pickens-ares-winlink-net/?mc
 _id=1783
METHOD:PUBLISH
END:VEVENT
END:VCALENDAR