BEGIN:VCALENDAR
VERSION:2.0
PRODID:spatie/icalendar-generator
DESCRIPTION:Events from Georgia Amateur Radio Emergency Service\, LLC
X-WR-CALDESC:Events from Georgia Amateur Radio Emergency Service\, LLC
REFRESH-INTERVAL;VALUE=DURATION:PT1440M
X-PUBLISHED-TTL:PT1440M
BEGIN:VTIMEZONE
TZID:America/New_York
BEGIN:STANDARD
DTSTART:20251102T020000Z
TZOFFSETFROM:-0400
TZOFFSETTO:-0500
END:STANDARD
BEGIN:DAYLIGHT
DTSTART:20260308T020000Z
TZOFFSETFROM:-0500
TZOFFSETTO:-0400
END:DAYLIGHT
END:VTIMEZONE
BEGIN:VTIMEZONE
TZID:UTC
BEGIN:STANDARD
DTSTART:20250728T150221Z
TZOFFSETFROM:+0000
TZOFFSETTO:+0000
END:STANDARD
END:VTIMEZONE
BEGIN:VEVENT
UID:2150-77
DTSTAMP:20260424T150221Z
SUMMARY:Central District ARES Net
LOCATION:
ORGANIZER;CN=Lee-Admin Account Stone:MAILTO:Lee.Stone@gaares.org
RRULE:FREQ=WEEKLY;UNTIL=20270210T000000Z
DTSTART;TZID=America/New_York:20260414T193000
DTEND;TZID=America/New_York:20260414T203000
X-ALT-DESC;FMTTYPE=TEXT/HTML:This net uses the Peach State Intertie System.
  Check the Peach State Intertie System for a repeater with which you can c
 onnect.
CATEGORIES:Net
URL;VALUE=URI:https://gaares.org/mc-events/central-district-ares-net-2-2/?m
 c_id=2150
METHOD:PUBLISH
END:VEVENT
END:VCALENDAR