BEGIN:VCALENDAR
VERSION:2.0
PRODID:spatie/icalendar-generator
DESCRIPTION:Events from Georgia Amateur Radio Emergency Service\, LLC
X-WR-CALDESC:Events from Georgia Amateur Radio Emergency Service\, LLC
REFRESH-INTERVAL;VALUE=DURATION:PT1440M
X-PUBLISHED-TTL:PT1440M
BEGIN:VTIMEZONE
TZID:America/New_York
BEGIN:STANDARD
DTSTART:20251102T020000Z
TZOFFSETFROM:-0400
TZOFFSETTO:-0500
END:STANDARD
BEGIN:DAYLIGHT
DTSTART:20260308T020000Z
TZOFFSETFROM:-0500
TZOFFSETTO:-0400
END:DAYLIGHT
END:VTIMEZONE
BEGIN:VTIMEZONE
TZID:UTC
BEGIN:STANDARD
DTSTART:20250728T153204Z
TZOFFSETFROM:+0000
TZOFFSETTO:+0000
END:STANDARD
END:VTIMEZONE
BEGIN:VEVENT
UID:2389-80
DTSTAMP:20260424T153204Z
SUMMARY:Southeast Linked Repeater Net
LOCATION:
ORGANIZER;CN=Lee Stone:MAILTO:ASEC-SpecialOps@gaares.org
RRULE:FREQ=WEEKLY;UNTIL=20261210T000000Z
DTSTART;TZID=America/New_York:20260408T210000
DTEND;TZID=America/New_York:20260408T214500
X-ALT-DESC;FMTTYPE=TEXT/HTML:<p>Southeast Linked Repeater Net on the Peach 
 State Intertie System</p>\n
CATEGORIES:Net
URL;VALUE=URI:https://gaares.org/mc-events/southeast-linked-repeater-net/?m
 c_id=2389
METHOD:PUBLISH
END:VEVENT
END:VCALENDAR