BEGIN:VCALENDAR
VERSION:2.0
PRODID:spatie/icalendar-generator
DESCRIPTION:Events from Georgia Amateur Radio Emergency Service\, LLC
X-WR-CALDESC:Events from Georgia Amateur Radio Emergency Service\, LLC
REFRESH-INTERVAL;VALUE=DURATION:PT1440M
X-PUBLISHED-TTL:PT1440M
BEGIN:VTIMEZONE
TZID:America/New_York
BEGIN:STANDARD
DTSTART:20251102T020000Z
TZOFFSETFROM:-0400
TZOFFSETTO:-0500
END:STANDARD
BEGIN:DAYLIGHT
DTSTART:20260308T020000Z
TZOFFSETFROM:-0500
TZOFFSETTO:-0400
END:DAYLIGHT
END:VTIMEZONE
BEGIN:VTIMEZONE
TZID:UTC
BEGIN:STANDARD
DTSTART:20250728T154445Z
TZOFFSETFROM:+0000
TZOFFSETTO:+0000
END:STANDARD
END:VTIMEZONE
BEGIN:VEVENT
UID:2655-86
DTSTAMP:20260424T154445Z
SUMMARY:Hospital D-Star Net
LOCATION:
ORGANIZER;CN=Lee-Admin Account Stone:MAILTO:Lee.Stone@gaares.org
RRULE:FREQ=MONTHLY;BYDAY=1SU;UNTIL=20261206T000000Z
DTSTART;TZID=America/New_York:20260405T143000
DTEND;TZID=America/New_York:20260405T150000
X-ALT-DESC;FMTTYPE=TEXT/HTML:The D-Star net is on Reflector 003A at 14:30 L
 ocal Time.
CATEGORIES:Net,  Training Exercise
URL;VALUE=URI:https://gaares.org/mc-events/hospital-d-star-net/?mc_id=2655
METHOD:PUBLISH
END:VEVENT
END:VCALENDAR