BEGIN:VCALENDAR
VERSION:2.0
PRODID:spatie/icalendar-generator
DESCRIPTION:Events from Georgia Amateur Radio Emergency Service\, LLC
X-WR-CALDESC:Events from Georgia Amateur Radio Emergency Service\, LLC
REFRESH-INTERVAL;VALUE=DURATION:PT1440M
X-PUBLISHED-TTL:PT1440M
BEGIN:VTIMEZONE
TZID:America/New_York
BEGIN:STANDARD
DTSTART:20251102T020000Z
TZOFFSETFROM:-0400
TZOFFSETTO:-0500
END:STANDARD
BEGIN:DAYLIGHT
DTSTART:20260308T020000Z
TZOFFSETFROM:-0500
TZOFFSETTO:-0400
END:DAYLIGHT
END:VTIMEZONE
BEGIN:VTIMEZONE
TZID:UTC
BEGIN:STANDARD
DTSTART:20250728T152525Z
TZOFFSETFROM:+0000
TZOFFSETTO:+0000
END:STANDARD
END:VTIMEZONE
BEGIN:VEVENT
UID:2678-88
DTSTAMP:20260424T152525Z
SUMMARY:Hospital Winlink Net
LOCATION:
ORGANIZER;CN=Lee-Admin Account Stone:MAILTO:Lee.Stone@gaares.org
RRULE:FREQ=MONTHLY;BYDAY=1SU;UNTIL=20261207T000000Z
DTSTART;TZID=America/New_York:20260405T140000
DTEND;TZID=America/New_York:20260405T180000
X-ALT-DESC;FMTTYPE=TEXT/HTML:The Hospital Winlink Net is open from 14:00L t
 o 18:00L. Send a message to: KA4FJV
CATEGORIES:General
URL;VALUE=URI:https://gaares.org/mc-events/hospital-winlink-net/?mc_id=2678
METHOD:PUBLISH
END:VEVENT
END:VCALENDAR