BEGIN:VCALENDAR
VERSION:2.0
PRODID:spatie/icalendar-generator
DESCRIPTION:Events from Georgia Amateur Radio Emergency Service\, LLC
X-WR-CALDESC:Events from Georgia Amateur Radio Emergency Service\, LLC
REFRESH-INTERVAL;VALUE=DURATION:PT1440M
X-PUBLISHED-TTL:PT1440M
BEGIN:VTIMEZONE
TZID:America/New_York
BEGIN:STANDARD
DTSTART:20251102T020000Z
TZOFFSETFROM:-0400
TZOFFSETTO:-0500
END:STANDARD
BEGIN:DAYLIGHT
DTSTART:20260308T020000Z
TZOFFSETFROM:-0500
TZOFFSETTO:-0400
END:DAYLIGHT
BEGIN:STANDARD
DTSTART:20261101T020000Z
TZOFFSETFROM:-0400
TZOFFSETTO:-0500
END:STANDARD
END:VTIMEZONE
BEGIN:VTIMEZONE
TZID:UTC
BEGIN:STANDARD
DTSTART:20250728T153336Z
TZOFFSETFROM:+0000
TZOFFSETTO:+0000
END:STANDARD
END:VTIMEZONE
BEGIN:VEVENT
UID:2707-90
DTSTAMP:20260424T153336Z
SUMMARY:Public Health D-STAR Net
LOCATION:
ORGANIZER;CN=Lee-Admin Account Stone:MAILTO:Lee.Stone@gaares.org
RRULE:FREQ=WEEKLY;UNTIL=20261218T000000Z
DTSTART;TZID=America/New_York:20260430T083000
DTEND;TZID=America/New_York:20260430T093000
X-ALT-DESC;FMTTYPE=TEXT/HTML:Weekly net on Reflector 003A at 08:30L
CATEGORIES:Net
URL;VALUE=URI:https://gaares.org/mc-events/public-health-d-star-net-2/?mc_i
 d=2707
METHOD:PUBLISH
END:VEVENT
END:VCALENDAR