BEGIN:VCALENDAR
VERSION:2.0
PRODID:spatie/icalendar-generator
DESCRIPTION:Events from Georgia Amateur Radio Emergency Service\, LLC
X-WR-CALDESC:Events from Georgia Amateur Radio Emergency Service\, LLC
REFRESH-INTERVAL;VALUE=DURATION:PT1440M
X-PUBLISHED-TTL:PT1440M
BEGIN:VTIMEZONE
TZID:America/New_York
BEGIN:STANDARD
DTSTART:20251102T020000Z
TZOFFSETFROM:-0400
TZOFFSETTO:-0500
END:STANDARD
BEGIN:DAYLIGHT
DTSTART:20260308T020000Z
TZOFFSETFROM:-0500
TZOFFSETTO:-0400
END:DAYLIGHT
END:VTIMEZONE
BEGIN:VTIMEZONE
TZID:UTC
BEGIN:STANDARD
DTSTART:20250728T150222Z
TZOFFSETFROM:+0000
TZOFFSETTO:+0000
END:STANDARD
END:VTIMEZONE
BEGIN:VEVENT
UID:819-48
DTSTAMP:20260424T150222Z
SUMMARY:JRC-Pickens ARES Net
LOCATION:
ORGANIZER;CN=Frank Dean:MAILTO:kfd455@yahoo.com
RRULE:FREQ=WEEKLY;UNTIL=20331127T000000Z
DTSTART;TZID=America/New_York:20260419T200000
DTEND;TZID=America/New_York:20260419T204500
X-ALT-DESC;FMTTYPE=TEXT/HTML:Jasper Radio Club/Pickens ARES Net Every Sunda
 y at 8:00 pm on 146.700 repeater. The repeater has a - offsite with PL ton
 e 123. The alternate repeater is 145.430 with -offset and PL 123. This Net
  is open to the public and all are welcome to join in.
CATEGORIES:Net
URL;VALUE=URI:https://gaares.org/mc-events/jrc-pickens-ares-net/?mc_id=819
METHOD:PUBLISH
END:VEVENT
END:VCALENDAR